BEGIN:VCALENDAR
VERSION:2.0
PRODID:-//AMDD - Asociación de Marketing Digital y Data de Chile - ECPv6.10.1.1//NONSGML v1.0//EN
CALSCALE:GREGORIAN
METHOD:PUBLISH
X-WR-CALNAME:AMDD - Asociación de Marketing Digital y Data de Chile
X-ORIGINAL-URL:https://www.amddchile.com
X-WR-CALDESC:Eventos para AMDD - Asociación de Marketing Digital y Data de Chile
REFRESH-INTERVAL;VALUE=DURATION:PT1H
X-Robots-Tag:noindex
X-PUBLISHED-TTL:PT1H
BEGIN:VTIMEZONE
TZID:America/Santiago
BEGIN:STANDARD
TZOFFSETFROM:-0300
TZOFFSETTO:-0400
TZNAME:-04
DTSTART:20250406T030000
END:STANDARD
BEGIN:DAYLIGHT
TZOFFSETFROM:-0400
TZOFFSETTO:-0300
TZNAME:-03
DTSTART:20250907T040000
END:DAYLIGHT
END:VTIMEZONE
BEGIN:VEVENT
DTSTART;TZID=America/Santiago:20250807T180000
DTEND;TZID=America/Santiago:20250807T210000
DTSTAMP:20260421T200406
CREATED:20250702T004522Z
LAST-MODIFIED:20250702T004522Z
UID:7647-1754589600-1754600400@www.amddchile.com
SUMMARY:Lanzamiento Curso online de protección de datos AMDD
DESCRIPTION:La AMDD\, en conjunto con su Consejo de Ética y Autorregulación y la colaboración de iProspect y Agencia González\, empresas asociadas\, así como de la Alta Dirección FEN Universidad de Chile\, invitan a un cheesse and wine para el lanzamiento oficial del Curso online de Protección de Datos de la AMDD. \nEn este evento\, estarán presentes los miembro del Consejo\, el directorio y los socios de la AMDD\, con el fin de dar el pistolezato inicial para este curso es un beneficio gratuito para las empresas asociadas y estará disponible de forma paga para el público general .
URL:https://www.amddchile.com/event/lanzamiento-curso-online-de-proteccion-de-datos-amdd/
LOCATION:FEN UChile Apoquindo\, Av. Apoquindo 6550\, Santiago\, Región Metropolitana\, Chile
CATEGORIES:AMDD
ORGANIZER;CN="AMDD":MAILTO:asociacion@amddchile.com
END:VEVENT
BEGIN:VEVENT
DTSTART;TZID=America/Santiago:20250806T083000
DTEND;TZID=America/Santiago:20250806T130000
DTSTAMP:20260421T200406
CREATED:20250717T165551Z
LAST-MODIFIED:20250717T181259Z
UID:7830-1754469000-1754485200@www.amddchile.com
SUMMARY:ALIADOS: ¡Cuando tú y la IA trabajan como uno solo!
DESCRIPTION:El próximo miércoles 6 de agosto se realizará ALIADOS by Cebra\, evento presencial que reunirá a profesionales del marketing\, la tecnología y la innovación para explorar cómo la inteligencia artificial está cambiando la forma en que operan y crecen las empresas en el mundo real. \nEl encuentro tendrá como speaker principal a Ignacio Briones\, exministro de Hacienda de Chile\, quien compartirá su visión sobre el impacto de la IA en el desarrollo económico\, empresarial y social del país y la región.  \nJunto a él\, participarán destacados referentes del marketing y expertos del mundo digital\, como Héctor Lascar\, fundador y Global CEO de Cebra; Carlos Valderrama\, Strategic Partnership de HubSpot; Diego Ávila\, VP de Ventas de Atom; Juan Carlos Valenzuela de Entel Empresas; Micaela Romero\, Growth Manager de Cebra; Catalina Olivares\, Content Strategist de Cebra; Luis Vega\, SEO Specialist; entre otros speakers.
URL:https://www.amddchile.com/event/aliados-cuando-tu-y-la-ia-trabajan-como-uno-solo/
LOCATION:ICON Hotel Santiago\, Alonso de Córdova 6050\, Las Condes\, Santiago\, Región Metropolitana\, Chile
CATEGORIES:Socios AMDD
END:VEVENT
BEGIN:VEVENT
DTSTART;TZID=America/Santiago:20250730T190000
DTEND;TZID=America/Santiago:20250730T220000
DTSTAMP:20260421T200406
CREATED:20250701T204855Z
LAST-MODIFIED:20250701T204855Z
UID:7643-1753902000-1753912800@www.amddchile.com
SUMMARY:Best Branding Awards Chile 2025
DESCRIPTION:Ceremonia de premiación de los Best Branding Awards Chile 2025\, concurso organizado por Valora que premia los casos de branding más destacados del país. \n 
URL:https://www.amddchile.com/event/best-branding-awards-chile-2025/
LOCATION:Espacio Riesco\, Av. El Salto 5000\, Santiago\, Región Metropolitana\, Chile
CATEGORIES:Industria
END:VEVENT
BEGIN:VEVENT
DTSTART;TZID=America/Santiago:20250703T090000
DTEND;TZID=America/Santiago:20250703T140000
DTSTAMP:20260421T200406
CREATED:20250701T203922Z
LAST-MODIFIED:20250701T203922Z
UID:7640-1751533200-1751551200@www.amddchile.com
SUMMARY:Fashion online 2025
DESCRIPTION:Seminario de estrategias\, tendencias y nuevas tecnologías para el canal online del fashion.
URL:https://www.amddchile.com/event/fashion-online-2025/
LOCATION:Best Western Premier Marina Las Condes\, Alonso de Córdova 5727\, Las Condes\, Santiago\, Región Metropolitana\, Chile
CATEGORIES:Industria
END:VEVENT
BEGIN:VEVENT
DTSTART;TZID=America/Santiago:20250702T080000
DTEND;TZID=America/Santiago:20250704T170000
DTSTAMP:20260421T200406
CREATED:20250702T154941Z
LAST-MODIFIED:20250702T154953Z
UID:7665-1751443200-1751648400@www.amddchile.com
SUMMARY:eRetail Day México 2025
DESCRIPTION:Del 2 al 4 de julio se realizará la 12ª edición del eRetail Day México\, evento clave en comercio digital para retailers diseñado especialmente para la formación y desarrollo profesional del sector. \nCon un formato híbrido —actividades presenciales el jueves 3 de julio en Espacio R (CDMX) y una completa propuesta online—\, el evento facilitará la participación de profesionales de todo México y del exterior. \nDurante tres días\, los asistentes accederán a un programa intensivo de capacitación con workshops temáticos on-demand\, conferencias y plenarias\, visitas técnicas a empresas líderes del ecommerce y espacios de networking estratégico. También se compartirán casos de éxito reales\, herramientas prácticas para escalar negocios y mejorar operaciones\, y experiencias colaborativas como el eLíderes Forum\, dedicado al intercambio de experiencias y el aprendizaje colectivo. \nLa agenda\, orientada a las últimas tendencias en comercio digital integrado\, abordará temáticas clave como inteligencia artificial\, marketplaces\, super apps y retail media\, potenciando la actualización constante y la innovación en estrategias comerciales. Pueden acceder a la misma aquí: https://eretailday.org/2025/mx/agenda/
URL:https://www.amddchile.com/event/eretail-day-mexico/
LOCATION:Espacio R\, CDMX\, México\, Mexico
CATEGORIES:Industria
END:VEVENT
BEGIN:VEVENT
DTSTART;TZID=America/Santiago:20250702T050000
DTEND;TZID=America/Santiago:20250702T070000
DTSTAMP:20260421T200406
CREATED:20250701T203246Z
LAST-MODIFIED:20250701T203246Z
UID:7637-1751432400-1751439600@www.amddchile.com
SUMMARY:The US Data Use Access Bill Explain - FEDMA
DESCRIPTION:El Proyecto de Ley de Datos (Uso y Acceso) finalmente ha sido aprobado por el Parlamento del Reino Unido y marca la primera reforma importante del RGPD británico desde el Brexit. Pero ¿se trata simplemente de un ajuste regulatorio o del comienzo de un cambio más estratégico en el enfoque del Reino Unido hacia la gobernanza de datos? \nAcompáñenos a un seminario web el miércoles 2 de julio a las 11:00 CET con Christopher Combemale\, Director de Políticas y Asuntos Públicos de la Asociación de Datos y Marketing (DMA)\, quien profundizará en las implicaciones del proyecto de ley para los profesionales del marketing y por qué no esperamos que tenga un impacto negativo en la adecuación. \nFecha y hora: Miércoles 2 de julio de 2025 a las 11:00 CET\nLa inscripción es gratuita\, pero obligatoria. \n¿Conoce a algún miembro o cliente que pueda beneficiarse de este debate? Comparta esta invitación con ellos. Este es un evento exclusivo para los miembros de la FEDMA y su red de contactos.
URL:https://www.amddchile.com/event/the-us-data-use-access-bill-explain-fedma/
LOCATION:Online\, Chile
CATEGORIES:Industria
END:VEVENT
BEGIN:VEVENT
DTSTART;TZID=America/Santiago:20250619T083000
DTEND;TZID=America/Santiago:20250619T103000
DTSTAMP:20260421T200406
CREATED:20250616T153222Z
LAST-MODIFIED:20250616T153222Z
UID:7493-1750321800-1750329000@www.amddchile.com
SUMMARY:Desayuno Theodora: IA\, sesgo y cerebro
DESCRIPTION:La AMDD\, con la colaboración de dentsu y The Clinic\, realizará este desayuno exclusivo para sus socios en el que participarán:\n\nMaría José Martabit\, fundadora y CEO de Theodora AI.\nDevon Allen\, responsable de la expansión de la infraestructura global de nube de Microsoft para las Américas.\nWilson Pais\, director de Cloud & Digital ecosystems en Microsoft Latinoamérica.\n\nEl encuentro será el jueves 19 de junio\, de 8:30 a 10:30 horas en Del Inca 4446\, piso 5. La inscripción es únicamente a través de este formulario.\n\nLos asistentes deben tomar en cuenta que este recinto no cuenta con estacionamientos disponibles.
URL:https://www.amddchile.com/event/desayuno-theodora-ia-sesgo-y-cerebro/
LOCATION:The Clinic\, Del Inca 4446\, Santiago\, Región Metropolitana\, Chile
CATEGORIES:AMDD
ORGANIZER;CN="AMDD":MAILTO:asociacion@amddchile.com
END:VEVENT
BEGIN:VEVENT
DTSTART;TZID=America/Santiago:20250617T120000
DTEND;TZID=America/Santiago:20250617T130000
DTSTAMP:20260421T200406
CREATED:20250701T202337Z
LAST-MODIFIED:20250701T202337Z
UID:7634-1750161600-1750165200@www.amddchile.com
SUMMARY:Growth marketing en acción
DESCRIPTION:Webinar | Growth Marketing en acción\nCómo implementar estrategias que realmente escalen\n¿Sientes que tu negocio digital tiene potencial\, pero no sabes por dónde empezar?\nMuchos negocios hacen marketing… pero no todos logran crecer. Y no siempre es por falta de esfuerzo\, sino por falta de estrategia y foco.\nEn este webinar vamos a mostrarte cómo piensan y actúan los equipos que realmente escalan.\nSin hacks mágicos. Sin fórmulas vacías. Solo Growth Marketing real en acción.\nEn este encuentro nos acompaña Melina Campanella\, ecommerce & marketing specialist y directora de Not Ordinary Agency.\n¿Qué vas a aprender?\nCómo pasar de acciones aisladas a una estrategia con foco.\nCasos reales de marcas que crecieron aplicando mentalidad growth.\nClaves para pensar\, medir y actuar como un growth marketer.\nTácticas simples que puedes aplicar en cualquier negocio digital.\nEste webinar puede cambiar cómo ves el crecimiento digital de tu negocio.
URL:https://www.amddchile.com/event/growth-marketing-en-accion/
LOCATION:Online\, Chile
CATEGORIES:Industria
END:VEVENT
BEGIN:VEVENT
DTSTART;TZID=America/Santiago:20250616T190000
DTEND;TZID=America/Santiago:20250616T210000
DTSTAMP:20260421T200406
CREATED:20250616T154123Z
LAST-MODIFIED:20250616T154123Z
UID:7502-1750100400-1750107600@www.amddchile.com
SUMMARY:Green Drinks Santiago junio
DESCRIPTION:Liderazgo & Gobernanza – Como avanzar en tiempos inciertos.
URL:https://www.amddchile.com/event/green-drinks-santiago-junio/
LOCATION:Hotel Renassaince\, Avenida presidente Kennedy 4700\, Santiago\, Región Metropolitana\, Chile
CATEGORIES:Industria
END:VEVENT
BEGIN:VEVENT
DTSTART;TZID=America/Santiago:20250605T143000
DTEND;TZID=America/Santiago:20250605T170000
DTSTAMP:20260421T200406
CREATED:20250616T153816Z
LAST-MODIFIED:20250616T153816Z
UID:7499-1749133800-1749142800@www.amddchile.com
SUMMARY:ICARE Congreso XXXIII Chileno de Marketing Reset
DESCRIPTION:Congreso XXXIII Chileno de Marketing Reset.
URL:https://www.amddchile.com/event/icare-congreso-xxxiii-chileno-de-marketing-reset/
CATEGORIES:Industria
END:VEVENT
BEGIN:VEVENT
DTSTART;TZID=America/Santiago:20250604T090000
DTEND;TZID=America/Santiago:20250604T123000
DTSTAMP:20260421T200406
CREATED:20250616T153541Z
LAST-MODIFIED:20250616T153541Z
UID:7496-1749027600-1749040200@www.amddchile.com
SUMMARY:Gestión de proyectos con IA en marketing
DESCRIPTION:Foco en gestión de proyecto en IA en marketing.
URL:https://www.amddchile.com/event/gestion-de-proyectos-con-ia-en-marketing/
LOCATION:Duoc UC – Antonio Varas\, Antonio Varas 666\, Santiago\, Región Metropolitana\, Chile
CATEGORIES:AMDD
ORGANIZER;CN="AMDD":MAILTO:asociacion@amddchile.com
END:VEVENT
BEGIN:VEVENT
DTSTART;TZID=America/Santiago:20250528T110000
DTEND;TZID=America/Santiago:20250528T170000
DTSTAMP:20260421T200406
CREATED:20250616T151943Z
LAST-MODIFIED:20250616T152455Z
UID:7490-1748430000-1748451600@www.amddchile.com
SUMMARY:6to. Congreso Cebra
DESCRIPTION:Lanzamiento de Engagement Plus.
URL:https://www.amddchile.com/event/6to-congreso-cebra/
LOCATION:Online\, Chile
CATEGORIES:Socios AMDD
END:VEVENT
BEGIN:VEVENT
DTSTART;VALUE=DATE:20250509
DTEND;VALUE=DATE:20250510
DTSTAMP:20260421T200406
CREATED:20250616T151627Z
LAST-MODIFIED:20250616T152308Z
UID:7486-1746748800-1746835199@www.amddchile.com
SUMMARY:V Congreso DEC Chile: Humanizando la experiencia
DESCRIPTION:El arte de conectar en la era digital.
URL:https://www.amddchile.com/event/v-congreso-dec-chile-humanizando-la-experiencia/
LOCATION:Centro Cultural Corp Art\, Rosario Norte 660\, Santiago\, Región Metropolitana\, Chile
CATEGORIES:Industria
END:VEVENT
BEGIN:VEVENT
DTSTART;TZID=America/Santiago:20250505T083000
DTEND;TZID=America/Santiago:20250505T120000
DTSTAMP:20260421T200406
CREATED:20250327T002055Z
LAST-MODIFIED:20250327T002114Z
UID:6508-1746433800-1746446400@www.amddchile.com
SUMMARY:Seminario de marketing y medios AAM MEDIA DAY 2025
DESCRIPTION:AAM MEDIADAY 2025 se moverá entre lo estratégico y lo práctico. \nEl objetivo es poner en valor el marketing\, proporcionando a los asistentes abordajes que puedan aplicar en su día a día. \nCompartiremos experiencias recientes en mercados donde esta actividad ha alcanzado el más amplio desarrollo y cómo se materializa su contribución. La evidencia nos mostrará por qué se trata de una inversión y no de un gasto.
URL:https://www.amddchile.com/event/aam-media-day-2025/
LOCATION:Hotel W\, Isidora Goyenechea 3000\, Las Condes\, Santiago\, Región Metropolitana\, Chile
CATEGORIES:Industria
END:VEVENT
BEGIN:VEVENT
DTSTART;VALUE=DATE:20250423
DTEND;VALUE=DATE:20250426
DTSTAMP:20260421T200406
CREATED:20250415T152818Z
LAST-MODIFIED:20250415T160847Z
UID:6692-1745366400-1745625599@www.amddchile.com
SUMMARY:Ecommerce Day 2025
DESCRIPTION:El Ecommerce Day es el encuentro del digital commerce más importante de América Latina. \nEste año el evento tiene formato mixto con sesiones online el 23 y 25\, y presencial el 24 de abril desde las 8 horas.
URL:https://www.amddchile.com/event/ecommerce-day-2025/
LOCATION:Centro Parque  Av. Presidente Riesco 5330\, Avenida Presidente Riesco 5330\, Santiago\, Región Metropolitana\, Chile
CATEGORIES:Industria
END:VEVENT
BEGIN:VEVENT
DTSTART;TZID=America/Santiago:20250422T081500
DTEND;TZID=America/Santiago:20250422T133000
DTSTAMP:20260421T200406
CREATED:20250327T001259Z
LAST-MODIFIED:20250327T001259Z
UID:6504-1745309700-1745328600@www.amddchile.com
SUMMARY:Congreso AMDDay 2025
DESCRIPTION:La inteligencia artificial está redefiniendo el marketing digital. En este contexto la pregunta clave es: ¿cómo podemos usarla para construir un entorno más ético y seguro? \nEn el #AMDDAY2025 a través de casos de éxitos inéditos en Chile exploraremos cómo la IA puede impulsar estrategias de marketing alineadas con valores de transparencia y protección de datos. \nConoce los speakers confirmados\, la agenda y compra tus entradas amddchile.com/amdday \nAgrégalo a tu calendario aquí. \n 
URL:https://www.amddchile.com/event/congreso-amdday-2025/
LOCATION:Hotel Intercontinental de Santiago\, Av Vitacura 2885\, Las Condes\, Santiago\, Región Metropolitana\, Chile
CATEGORIES:AMDD
ORGANIZER;CN="AMDD":MAILTO:asociacion@amddchile.com
END:VEVENT
BEGIN:VEVENT
DTSTART;TZID=America/Santiago:20250319T110000
DTEND;TZID=America/Santiago:20250319T120000
DTSTAMP:20260421T200406
CREATED:20250327T002804Z
LAST-MODIFIED:20250327T002858Z
UID:6512-1742382000-1742385600@www.amddchile.com
SUMMARY:Seo Insights: Mujeres que transforman la industria del Seo
DESCRIPTION:En este evento gratuito\, destacadas expertas del área compartirán su visión sobre los desafíos actuales\, las mejores prácticas y las oportunidades que el SEO ofrece para impulsar marcas y negocios. \nEl encuentro será conducido por Catalina Olivares\, content strategist de Cebra\, quien guiará esta conversación para profundizar en las experiencias y conocimientos de las invitadas: \nFlor Estévez\, co-fundadora de Latinas en SEO\, y CEO de Crawla\, referente en SEO técnico en Latinoamérica\, con un enfoque integral basado en sus estudios en lingüística. \nAlejandra Ravera\, gerente general de la AMDD\, quien lidera iniciativas para fortalecer el marketing digital para promover el uso responsable de los datos. \nKaterine Coque\, especialista en posicionamiento de contenido y líder de marketing para Latinoamérica en Partoo\, es la responsable de diseñar estrategias innovadoras para conectar empresas con sus clientes. \nMaite Quintana\, jefa de SEO corporativo en Banco Falabella\, encargada de desarrollar estrategias orgánicas para una de las entidades financieras más grandes de Chile.
URL:https://www.amddchile.com/event/seo-insights-mujeres-que-transforman-la-industria-del-seo/
LOCATION:Online\, Chile
CATEGORIES:Socios AMDD
END:VEVENT
BEGIN:VEVENT
DTSTART;TZID=America/Santiago:20250217T080000
DTEND;TZID=America/Santiago:20250217T170000
DTSTAMP:20260421T200406
CREATED:20250217T011450Z
LAST-MODIFIED:20250305T172620Z
UID:6183-1739779200-1739811600@www.amddchile.com
SUMMARY:Test Event
DESCRIPTION:Test
URL:https://www.amddchile.com/event/test-event/
END:VEVENT
END:VCALENDAR